BEGIN:VCALENDAR
VERSION:2.0
PRODID:-//hacksw/handcal//NONSGML v1.0//EN
BEGIN:VEVENT
DTSTAMP:20230812T183000Z
DTSTART:20230812T183000Z
DTEND:20230812T183000Z
LOCATION:Vereinsheim des FC Grün-Weiß Etzweiler 1919 e.V., Tanneckstraße 138, Elsdorf, 50189, Deutschland
SUMMARY:Mitgliederversammlung 2023 der Jungen Union Elsdorf
END:VEVENT
END:VCALENDAR
