BEGIN:VCALENDAR
VERSION:2.0
PRODID:-//hacksw/handcal//NONSGML v1.0//EN
BEGIN:VEVENT
DTSTAMP:20200724T160000Z
DTSTART:20200724T160000Z
DTEND:20200724T173000Z
LOCATION:Forum :terra nova, Kerpener Straße / Nordrandweg, Elsdorf-Berrendorf, 50189, Deutschland
SUMMARY:Offene JU-Sitzung
END:VEVENT
END:VCALENDAR
