BEGIN:VCALENDAR
VERSION:2.0
PRODID:-//hacksw/handcal//NONSGML v1.0//EN
BEGIN:VEVENT
DTSTAMP:20200215T143000Z
DTSTART:20200215T143000Z
DTEND:20200215T160000Z
LOCATION:Forum :terra nova, Kerpener Straße / Nordrandweg, Elsdorf-Berrendorf, 50189, Deutschland
SUMMARY:Vorstandssitzung
END:VEVENT
END:VCALENDAR
