BEGIN:VCALENDAR
VERSION:2.0
PRODID:-//hacksw/handcal//NONSGML v1.0//EN
BEGIN:VEVENT
DTSTAMP:20200223T120000Z
DTSTART:20200223T120000Z
DTEND:20200223T150000Z
SUMMARY:Elsdorfer Zuckerwürfelzug (Karnevalssonntag)
END:VEVENT
END:VCALENDAR
