BEGIN:VCALENDAR
VERSION:2.0
PRODID:-//hacksw/handcal//NONSGML v1.0//EN
BEGIN:VEVENT
DTSTAMP:20200119T110000Z
DTSTART:20200119T110000Z
DTEND:20200119T130000Z
LOCATION:Gaststätte Alt Giesendorf, Etzweilerstraße 91, Elsdorf-Giesendorf, 50189, Deutschland
SUMMARY:Vorstandssitzung
END:VEVENT
END:VCALENDAR
